BEGIN:VCALENDAR
VERSION:2.0
PRODID:-//jEvents 2.0 for Joomla//EN
CALSCALE:GREGORIAN
METHOD:PUBLISH
BEGIN:VEVENT
UID:3e0a181640feeef205eef63fdf645111
CATEGORIES:Vefatlar
CREATED:20201220T154108
SUMMARY:Reyhan Esen 1999
DESCRIPTION;ENCODING=QUOTED-PRINTABLE:\n\nReyhan Esen\nVefat — 27 Ekim 1999
DTSTAMP:20260420T120824Z
DTSTART:20241026T220000Z
DTEND:20241027T215959Z
SEQUENCE:0
TRANSP:OPAQUE
END:VEVENT
END:VCALENDAR