BEGIN:VCALENDAR
VERSION:2.0
PRODID:-//jEvents 2.0 for Joomla//EN
CALSCALE:GREGORIAN
METHOD:PUBLISH
BEGIN:VEVENT
UID:4164710d3a31707c4e0a605db9bc9769
CATEGORIES:Vefatlar
CREATED:20201220T140226
SUMMARY:Nesibe Okumuş
DESCRIPTION;ENCODING=QUOTED-PRINTABLE:
DTSTAMP:20260424T152233Z
DTSTART;VALUE=DATE:19751202
DTEND;VALUE=DATE:19751203
SEQUENCE:0
TRANSP:OPAQUE
END:VEVENT
END:VCALENDAR