BEGIN:VCALENDAR
VERSION:2.0
PRODID:-//jEvents 2.0 for Joomla//EN
CALSCALE:GREGORIAN
METHOD:PUBLISH
BEGIN:VEVENT
UID:a680a6ad2d6844bfa8f636cb75498b4b
CATEGORIES:Vefatlar
CREATED:20201220T135953
SUMMARY:Nesibe Okumus
DESCRIPTION;ENCODING=QUOTED-PRINTABLE:
DTSTAMP:20260424T151131Z
DTSTART;VALUE=DATE:19751202
DTEND;VALUE=DATE:19751202
SEQUENCE:0
TRANSP:OPAQUE
END:VEVENT
END:VCALENDAR