BEGIN:VCALENDAR
VERSION:2.0
PRODID:-//jEvents 2.0 for Joomla//EN
CALSCALE:GREGORIAN
METHOD:PUBLISH
BEGIN:VEVENT
UID:a680a6ad2d6844bfa8f636cb75498b4b
CATEGORIES:Vefatlar
CREATED:19700101T010000
SUMMARY:Nesibe Okumus
DESCRIPTION;ENCODING=QUOTED-PRINTABLE:
DTSTAMP:20260425T140914Z
DTSTART;VALUE=DATE:19591202
DTEND;VALUE=DATE:19591202
SEQUENCE:0
RRULE:FREQ=YEARLY;COUNT=20;INTERVAL=1;BYYEARDAY=-30
TRANSP:OPAQUE
END:VEVENT
END:VCALENDAR