BEGIN:VCALENDAR
VERSION:2.0
PRODID:-//jEvents 2.0 for Joomla//EN
CALSCALE:GREGORIAN
METHOD:PUBLISH
BEGIN:VEVENT
UID:09048b1edacc8e24687d0d5d963e91b3
CATEGORIES:Vefatlar
CREATED:19700101T010000
SUMMARY:Nesibe Okumuş
DESCRIPTION;ENCODING=QUOTED-PRINTABLE:<p>1959</p>
DTSTAMP:20260424T135206Z
DTSTART;VALUE=DATE:19591202
DTEND;VALUE=DATE:19591203
SEQUENCE:0
RRULE:FREQ=YEARLY;COUNT=20;INTERVAL=1;BYYEARDAY=-30
TRANSP:OPAQUE
END:VEVENT
END:VCALENDAR