BEGIN:VCALENDAR
VERSION:2.0
PRODID:-//jEvents 2.0 for Joomla//EN
CALSCALE:GREGORIAN
METHOD:PUBLISH
BEGIN:VEVENT
UID:2b6821f407ae3ef9244ef382a7e72d9d
CATEGORIES:Vefatlar
CREATED:20201220T133750
SUMMARY:Nesibe Okumus
DESCRIPTION;ENCODING=QUOTED-PRINTABLE:
DTSTAMP:20260425T132013Z
DTSTART:19591202T070000Z
DTEND:19591202T160000Z
SEQUENCE:0
TRANSP:OPAQUE
END:VEVENT
END:VCALENDAR